BEGIN:VCALENDAR
VERSION:2.0
PRODID:-//Il Libraio//NONSGML Event Calendar//IT
BEGIN:VEVENT
UID:69de77f651706
DTSTART:20260531T150000Z
SEQUENCE:0
TRANSP:OPAQUE
LOCATION:https://www.google.com/maps/dir/+Via+Fonte+Maimonide+119+-+Patern
 ò+(CT)+Via+Fonte+Maimonide+119++Paternò+CT/
SUMMARY:Incontro con Simona Lo Iacono
CLASS:PUBLIC
DESCRIPTION:Scheda dell'evento: https://www.illibraio.it/eventi/incontro-co
 n-simona-lo-iacono-36520/
DTSTAMP:20260414T172302Z
END:VEVENT
END:VCALENDAR