BEGIN:VCALENDAR
VERSION:2.0
PRODID:-//Il Libraio//NONSGML Event Calendar//IT
BEGIN:VEVENT
UID:69e26c064f10f
DTSTART:20260522T160000Z
SEQUENCE:0
TRANSP:OPAQUE
LOCATION:https://www.google.com/maps/dir/+Mondadori+Bookstore+Via+Giuseppe+
 Garibaldi+26++Sciacca+AG/
SUMMARY:Incontro con Simona Lo Iacono
CLASS:PUBLIC
DESCRIPTION:Scheda dell'evento: https://www.illibraio.it/eventi/incontro-co
 n-simona-lo-iacono-36580/
DTSTAMP:20260417T172110Z
END:VEVENT
END:VCALENDAR