BEGIN:VCALENDAR
VERSION:2.0
PRODID:-//Il Libraio//NONSGML Event Calendar//IT
BEGIN:VEVENT
UID:6986c3d9a21df
DTSTART:20260214T170000Z
SEQUENCE:0
TRANSP:OPAQUE
LOCATION:https://www.google.com/maps/dir/+Circolo+dei+Lettori+Via+Giambatti
 sta+Bogino+9++Torino+TO/
SUMMARY:Joanne Harris a Torino
CLASS:PUBLIC
DESCRIPTION:Scheda dell'evento: https://www.illibraio.it/eventi/joanne-harr
 is-a-torino-34701/
DTSTAMP:20260207T044721Z
END:VEVENT
END:VCALENDAR