BEGIN:VCALENDAR
VERSION:2.0
PRODID:-//Il Libraio//NONSGML Event Calendar//IT
BEGIN:VEVENT
UID:69c75cf924f4e
DTSTART:20260404T160000Z
SEQUENCE:0
TRANSP:OPAQUE
LOCATION:https://www.google.com/maps/dir/+Auditorium+Guido+Calogero+-+Ex+Ch
 iesa+delle+Anime+Sante+Via+Calata+San+Antonio+15++Scanno+AQ/
SUMMARY:Ju Buk: Sara Gambazza a Scanno (AQ)
CLASS:PUBLIC
DESCRIPTION:Scheda dell'evento: https://www.illibraio.it/eventi/ju-buk-sara
 -gambazza-a-scanno-aq-35310/
DTSTAMP:20260328T044545Z
END:VEVENT
END:VCALENDAR