BEGIN:VCALENDAR
VERSION:2.0
PRODID:-//Il Libraio//NONSGML Event Calendar//IT
BEGIN:VEVENT
UID:6961d963059da
DTSTART:20260115T193000Z
SEQUENCE:0
TRANSP:OPAQUE
LOCATION:https://www.google.com/maps/dir/+Teatro+Manzoni+Via+Alessandro+Man
 zoni+23++Monza+MB/
SUMMARY:\"Libri in scena\": Donato Carrisi a Monza
CLASS:PUBLIC
DESCRIPTION:Scheda dell'evento: https://www.illibraio.it/eventi/libri-in-sc
 ena-donato-carrisi-a-monza-34690/
DTSTAMP:20260110T044523Z
END:VEVENT
END:VCALENDAR