BEGIN:VCALENDAR
VERSION:2.0
PRODID:-//Il Libraio//NONSGML Event Calendar//IT
BEGIN:VEVENT
UID:69b4e7f459a71
DTSTART:20260321T160000Z
SEQUENCE:0
TRANSP:OPAQUE
LOCATION:https://www.google.com/maps/dir/+Auditorium+Parco+della+Musica+Via
 +Pietro+de+Coubertin+30++Roma+RM/
SUMMARY:LibriCome: Alessia Gazzola a Roma
CLASS:PUBLIC
DESCRIPTION:Scheda dell'evento: https://www.illibraio.it/eventi/libricome-a
 lessia-gazzola-a-roma-35183/
DTSTAMP:20260314T044540Z
END:VEVENT
END:VCALENDAR