BEGIN:VCALENDAR
VERSION:2.0
PRODID:-//Il Libraio//NONSGML Event Calendar//IT
BEGIN:VEVENT
UID:69ab1b1ba1fe4
DTSTART:20260322T110000Z
SEQUENCE:0
TRANSP:OPAQUE
LOCATION:https://www.google.com/maps/dir/+Centro+Culturale+Aldo+Rossi+Viale
 +Europa+12++Borgoricco+PD/
SUMMARY:Luca Pappagallo presenta libro con showcooking alla Mostra del LIbr
 o di Borgoricco
CLASS:PUBLIC
DESCRIPTION:Scheda dell'evento: https://www.illibraio.it/eventi/luca-pappag
 allo-presenta-libro-con-showcooking-alla-mostra-del-libro-di-borgoricco-35
 915/
DTSTAMP:20260306T182115Z
END:VEVENT
END:VCALENDAR