BEGIN:VCALENDAR
VERSION:2.0
PRODID:-//Il Libraio//NONSGML Event Calendar//IT
BEGIN:VEVENT
UID:69b4e7f450840
DTSTART:20260319T173000Z
SEQUENCE:0
TRANSP:OPAQUE
LOCATION:https://www.google.com/maps/dir/+Assocazione+Mazzini+Rue+de+la+Mad
 eleine+13++Bruxelles+BP/
SUMMARY:Luciano Balbo a Bruxelles
CLASS:PUBLIC
DESCRIPTION:Scheda dell'evento: https://www.illibraio.it/eventi/luciano-bal
 bo-a-bruxelles-34307/
DTSTAMP:20260314T044540Z
END:VEVENT
END:VCALENDAR