BEGIN:VCALENDAR
VERSION:2.0
PRODID:-//Il Libraio//NONSGML Event Calendar//IT
BEGIN:VEVENT
UID:69e2fe63a6e0e
DTSTART:20260423T153000Z
SEQUENCE:0
TRANSP:OPAQUE
LOCATION:https://www.google.com/maps/dir/+Biblioteca+Civica+Edoardo+Firpo+p
 iazzale+Caduti+di+Nassyria+3+-+secondo+piano++Cogoleto+GE/
SUMMARY:Marco Buticchi a Cogoleto (GE)
CLASS:PUBLIC
DESCRIPTION:Scheda dell'evento: https://www.illibraio.it/eventi/marco-butic
 chi-a-cogoleto-ge-35944/
DTSTAMP:20260418T034539Z
END:VEVENT
END:VCALENDAR