BEGIN:VCALENDAR
VERSION:2.0
PRODID:-//Il Libraio//NONSGML Event Calendar//IT
BEGIN:VEVENT
UID:6999387c96601
DTSTART:20260223T200000Z
SEQUENCE:0
TRANSP:OPAQUE
LOCATION:https://www.google.com/maps/dir/+Sala+Consiliare+Piazza+della+Libe
 rtà+11++Romagnano+Sesia+NO/
SUMMARY:Marco Buticchi a Romagnano Sesia (NO)
CLASS:PUBLIC
DESCRIPTION:Scheda dell'evento: https://www.illibraio.it/eventi/marco-butic
 chi-a-romagnano-sesia-no-34676/
DTSTAMP:20260221T044548Z
END:VEVENT
END:VCALENDAR