BEGIN:VCALENDAR
VERSION:2.0
PRODID:-//Il Libraio//NONSGML Event Calendar//IT
BEGIN:VEVENT
UID:69a272df431a0
DTSTART:20260306T170000Z
SEQUENCE:0
TRANSP:OPAQUE
LOCATION:https://www.google.com/maps/dir/+Grand+Hôtel+Billia+Viale+Piemont
 e+72++Saint-Vincent+AO/
SUMMARY:Marco Buticchi a Saint-Vincent (AO)
CLASS:PUBLIC
DESCRIPTION:Scheda dell'evento: https://www.illibraio.it/eventi/marco-butic
 chi-a-saint-vincent-ao-33534/
DTSTAMP:20260228T044519Z
END:VEVENT
END:VCALENDAR