BEGIN:VCALENDAR
VERSION:2.0
PRODID:-//Il Libraio//NONSGML Event Calendar//IT
BEGIN:VEVENT
UID:69ab1b1baa48d
DTSTART:20260314T150000Z
SEQUENCE:0
TRANSP:OPAQUE
LOCATION:https://www.google.com/maps/dir/+Biblioteca+Civica+Aprosiana+-+Fon
 do+Antico+Via+Giuseppe+Garibaldi+10++Ventimiglia+IM/
SUMMARY:Marco Buticchi a Ventimiglia (IM)
CLASS:PUBLIC
DESCRIPTION:Scheda dell'evento: https://www.illibraio.it/eventi/marco-butic
 chi-a-ventimiglia-im-34212/
DTSTAMP:20260306T182115Z
END:VEVENT
END:VCALENDAR