BEGIN:VCALENDAR
VERSION:2.0
PRODID:-//Il Libraio//NONSGML Event Calendar//IT
BEGIN:VEVENT
UID:69d7e011f1737
DTSTART:20260419T150000Z
SEQUENCE:0
TRANSP:OPAQUE
LOCATION:https://www.google.com/maps/dir/+Antica+Serra+Pisoni+Via+Guglielmo
 +Oberdan+45++Legnano+MI/
SUMMARY:Marco Valsesia a Legnano (MI)
CLASS:PUBLIC
DESCRIPTION:Scheda dell'evento: https://www.illibraio.it/eventi/marco-valse
 sia-a-legnano-mi-35937/
DTSTAMP:20260409T172121Z
END:VEVENT
END:VCALENDAR