BEGIN:VCALENDAR
VERSION:2.0
PRODID:-//Il Libraio//NONSGML Event Calendar//IT
BEGIN:VEVENT
UID:69c427bd1901a
DTSTART:20260415T190000Z
SEQUENCE:0
TRANSP:OPAQUE
LOCATION:https://www.google.com/maps/dir/+Centro+Socio+Educativo+La+Vite+Vi
 a+Roma+37++Arcore+MB/
SUMMARY:Marina Viola presenta Il volo del tacchino a Arcore
CLASS:PUBLIC
DESCRIPTION:Scheda dell'evento: https://www.illibraio.it/eventi/marina-viol
 a-presenta-il-volo-del-tacchino-a-arcore-36181/
DTSTAMP:20260325T182149Z
END:VEVENT
END:VCALENDAR