BEGIN:VCALENDAR
VERSION:2.0
PRODID:-//Il Libraio//NONSGML Event Calendar//IT
BEGIN:VEVENT
UID:69a8781ff3432
DTSTART:20260420T160000Z
SEQUENCE:0
TRANSP:OPAQUE
LOCATION:https://www.google.com/maps/dir/+la+Feltrinelli+Piazza+dei+Martiri
 ++Napoli+NA/
SUMMARY:Marina Viola presenta \"Il volo del tacchino\" a Napoli
CLASS:PUBLIC
DESCRIPTION:Scheda dell'evento: https://www.illibraio.it/eventi/marina-viol
 a-presenta-il-volo-del-tacchino-a-napoli-35895/
DTSTAMP:20260304T182119Z
END:VEVENT
END:VCALENDAR