BEGIN:VCALENDAR
VERSION:2.0
PRODID:-//Il Libraio//NONSGML Event Calendar//IT
BEGIN:VEVENT
UID:69e2fe63b40ad
DTSTART:20260428T160000Z
SEQUENCE:0
TRANSP:OPAQUE
LOCATION:https://www.google.com/maps/dir/+Ostuni+Via+Giordano+Bruno+32++Ost
 uni+BR/
SUMMARY:Marina Viola presenta \"Il volo del tacchino\" a Ostuni
CLASS:PUBLIC
DESCRIPTION:Scheda dell'evento: https://www.illibraio.it/eventi/marina-viol
 a-presenta-il-volo-del-tacchino-a-ostuni-36419/
DTSTAMP:20260418T034539Z
END:VEVENT
END:VCALENDAR