BEGIN:VCALENDAR
VERSION:2.0
PRODID:-//Il Libraio//NONSGML Event Calendar//IT
BEGIN:VEVENT
UID:69a87820022c3
DTSTART:20260422T163000Z
SEQUENCE:0
TRANSP:OPAQUE
LOCATION:https://www.google.com/maps/dir/+Feltrinelli+Librerie+Via+Appia+Nu
 ova+427++Roma+RM/
SUMMARY:Marina Viola presenta \"Il volo del tacchino\" a Roma
CLASS:PUBLIC
DESCRIPTION:Scheda dell'evento: https://www.illibraio.it/eventi/marina-viol
 a-presenta-il-volo-del-tacchino-a-roma-35897/
DTSTAMP:20260304T182120Z
END:VEVENT
END:VCALENDAR