BEGIN:VCALENDAR
VERSION:2.0
PRODID:-//Il Libraio//NONSGML Event Calendar//IT
BEGIN:VEVENT
UID:69de77f652f58
DTSTART:20260510T153000Z
SEQUENCE:0
TRANSP:OPAQUE
LOCATION:https://www.google.com/maps/dir/+Il+Gabbiano+Cooperativa+Libraria+
 S.r.l.+Via+Pinamonte+4++Vimercate+MB/
SUMMARY:Marina Viola presenta \"Il volo del tacchino\" a Vimercate
CLASS:PUBLIC
DESCRIPTION:Scheda dell'evento: https://www.illibraio.it/eventi/marina-viol
 a-presenta-il-volo-del-tacchino-a-vimercate-36521/
DTSTAMP:20260414T172302Z
END:VEVENT
END:VCALENDAR