BEGIN:VCALENDAR
VERSION:2.0
PRODID:-//Il Libraio//NONSGML Event Calendar//IT
BEGIN:VEVENT
UID:69e903774aa8d
DTSTART:20260520T073000Z
SEQUENCE:0
TRANSP:OPAQUE
LOCATION:https://www.google.com/maps/dir/+Comprehensive+School+Forio+Via+Gi
 ovanni+Castellaccio+4++Forio+NA/
SUMMARY:Mattia Corrente presenta \"Cronache dell'Ade\" a Ischia
CLASS:PUBLIC
DESCRIPTION:Scheda dell'evento: https://www.illibraio.it/eventi/mattia-corr
 ente-presenta-cronache-dellade-a-ischia-36644/
DTSTAMP:20260422T172055Z
END:VEVENT
END:VCALENDAR