BEGIN:VCALENDAR
VERSION:2.0
PRODID:-//Il Libraio//NONSGML Event Calendar//IT
BEGIN:VEVENT
UID:69e2fe638db98
DTSTART:20260423T190000Z
SEQUENCE:0
TRANSP:OPAQUE
LOCATION:https://www.google.com/maps/dir/+Anteo+SpazioCinema+CremonaPo+Via+
 Castelleone+108++Cremona+CR/
SUMMARY:Nasim Eshqi a Cremona
CLASS:PUBLIC
DESCRIPTION:Scheda dell'evento: https://www.illibraio.it/eventi/nasim-eshqi
 -a-cremona-36587/
DTSTAMP:20260418T034539Z
END:VEVENT
END:VCALENDAR