BEGIN:VCALENDAR
VERSION:2.0
PRODID:-//Il Libraio//NONSGML Event Calendar//IT
BEGIN:VEVENT
UID:69b3041e0a7cd
DTSTART:20260317T160000Z
SEQUENCE:0
TRANSP:OPAQUE
LOCATION:https://www.google.com/maps/dir/+I.I.S.+Rita+Levi+Montalcini+Via+R
 uffano+Corte+II+3++Casarano+LE/
SUMMARY:Nicola Gardini a Casarano (LE)
CLASS:PUBLIC
DESCRIPTION:Scheda dell'evento: https://www.illibraio.it/eventi/nicola-gard
 ini-a-casarano-le-35574/
DTSTAMP:20260312T182118Z
END:VEVENT
END:VCALENDAR