BEGIN:VCALENDAR
VERSION:2.0
PRODID:-//Il Libraio//NONSGML Event Calendar//IT
BEGIN:VEVENT
UID:69b3041e07ae4
DTSTART:20260316T173000Z
SEQUENCE:0
TRANSP:OPAQUE
LOCATION:https://www.google.com/maps/dir/+Mu.Di.Na.+-+Museo+diocesano+Nard
 ò+Via+C.+De+Benedittis+28++Nardò+LE/
SUMMARY:Nicola Gardini a Nardò (LE)
CLASS:PUBLIC
DESCRIPTION:Scheda dell'evento: https://www.illibraio.it/eventi/nicola-gard
 ini-a-nardo-le-35573/
DTSTAMP:20260312T182118Z
END:VEVENT
END:VCALENDAR