BEGIN:VCALENDAR
VERSION:2.0
PRODID:-//Il Libraio//NONSGML Event Calendar//IT
BEGIN:VEVENT
UID:69b4e7f44a690
DTSTART:20260322T160000Z
SEQUENCE:0
TRANSP:OPAQUE
LOCATION:https://www.google.com/maps/dir/+Nuovo+Cinema+Prealpi+Piazza+Preal
 pi+1++Saronno+VA/
SUMMARY:Nicola Gardini a Saronno (VA)
CLASS:PUBLIC
DESCRIPTION:Scheda dell'evento: https://www.illibraio.it/eventi/nicola-gard
 ini-a-saronno-va-35889/
DTSTAMP:20260314T044540Z
END:VEVENT
END:VCALENDAR