BEGIN:VCALENDAR
VERSION:2.0
PRODID:-//Il Libraio//NONSGML Event Calendar//IT
BEGIN:VEVENT
UID:69e2fe63a0deb
DTSTART:20260421T163000Z
SEQUENCE:0
TRANSP:OPAQUE
LOCATION:https://www.google.com/maps/dir/+Spazio+Sette+Libreria+Via+dei+Bar
 bieri+7++Roma+RM/
SUMMARY:Nicoletta Romanazzi a Roma
CLASS:PUBLIC
DESCRIPTION:Scheda dell'evento: https://www.illibraio.it/eventi/nicoletta-r
 omanazzi-a-roma-35883/
DTSTAMP:20260418T034539Z
END:VEVENT
END:VCALENDAR