BEGIN:VCALENDAR
VERSION:2.0
PRODID:-//Il Libraio//NONSGML Event Calendar//IT
BEGIN:VEVENT
UID:69e2fe6394d70
DTSTART:20260426T153000Z
SEQUENCE:0
TRANSP:OPAQUE
LOCATION:https://www.google.com/maps/dir/+Salotto+letterario\,+MontagnaLibr
 i+Piazza+del+Duomo+18++Trento+TN/
SUMMARY:Noemi Pelagalli a Trento
CLASS:PUBLIC
DESCRIPTION:Scheda dell'evento: https://www.illibraio.it/eventi/noemi-pelag
 alli-a-trento-34839/
DTSTAMP:20260418T034539Z
END:VEVENT
END:VCALENDAR