BEGIN:VCALENDAR
VERSION:2.0
PRODID:-//Il Libraio//NONSGML Event Calendar//IT
BEGIN:VEVENT
UID:69e2fe63930f0
DTSTART:20260425T141500Z
SEQUENCE:0
TRANSP:OPAQUE
LOCATION:https://www.google.com/maps/dir/+Real+Collegio+di+Lucca+Piazza+del
 +Collegio+13++Lucca+LU/
SUMMARY:Pasquale Sgrò a Lucca
CLASS:PUBLIC
DESCRIPTION:Scheda dell'evento: https://www.illibraio.it/eventi/pasquale-sg
 ro-a-lucca-36025/
DTSTAMP:20260418T034539Z
END:VEVENT
END:VCALENDAR