BEGIN:VCALENDAR
VERSION:2.0
PRODID:-//Il Libraio//NONSGML Event Calendar//IT
BEGIN:VEVENT
UID:69de77f616b62
DTSTART:20260515T170000Z
SEQUENCE:0
TRANSP:OPAQUE
LOCATION:https://www.google.com/maps/dir/+Vice+consolato+spagnolo+Via+Leonc
 ino+16++Verona+VR/
SUMMARY:Premio Letterario Yanez-Sepulveda
CLASS:PUBLIC
DESCRIPTION:Scheda dell'evento: https://www.illibraio.it/eventi/premio-lett
 erario-yanez-sepulveda-35920/
DTSTAMP:20260414T172302Z
END:VEVENT
END:VCALENDAR