BEGIN:VCALENDAR
VERSION:2.0
PRODID:-//Il Libraio//NONSGML Event Calendar//IT
BEGIN:VEVENT
UID:6916218b87573
DTSTART:20251113T173000Z
SEQUENCE:0
TRANSP:OPAQUE
LOCATION:https://www.google.com/maps/dir/+Giunti+Odeon+Libreria+e+Cinema+pi
 azza+degli+Strozzi++Firenze+FI/
SUMMARY:Psicologa Cruda presenta \"Torno Subito (forse)\" a Firenze
CLASS:PUBLIC
DESCRIPTION:Scheda dell'evento: https://www.illibraio.it/eventi/psicologa-c
 ruda-presenta-torno-subito-forse-a-firenze-34699/
DTSTAMP:20251113T182059Z
END:VEVENT
END:VCALENDAR