BEGIN:VCALENDAR
VERSION:2.0
PRODID:-//Il Libraio//NONSGML Event Calendar//IT
BEGIN:VEVENT
UID:6916218b73ae2
DTSTART:20251117T173000Z
SEQUENCE:0
TRANSP:OPAQUE
LOCATION:https://www.google.com/maps/dir/+Feltrinelli+Librerie+Corso+Genova
 +20++Milano+MI/
SUMMARY:Psicologa Cruda presenta \"Torno Subito (forse)\" a Milano
CLASS:PUBLIC
DESCRIPTION:Scheda dell'evento: https://www.illibraio.it/eventi/psicologa-c
 ruda-presenta-torno-subito-forse-a-milano-34698/
DTSTAMP:20251113T182059Z
END:VEVENT
END:VCALENDAR