BEGIN:VCALENDAR
VERSION:2.0
PRODID:-//Il Libraio//NONSGML Event Calendar//IT
BEGIN:VEVENT
UID:6916218b8435a
DTSTART:20251124T160000Z
SEQUENCE:0
TRANSP:OPAQUE
LOCATION:https://www.google.com/maps/dir/+Libreria+Libraccio+Roma+-+Via+Naz
 ionale+Via+Nazionale+254/255++Roma+RM/
SUMMARY:Psicologa Cruda presenta \"Torno Subito (forse)\" a Roma
CLASS:PUBLIC
DESCRIPTION:Scheda dell'evento: https://www.illibraio.it/eventi/psicologa-c
 ruda-presenta-torno-subito-forse-a-roma-34700/
DTSTAMP:20251113T182059Z
END:VEVENT
END:VCALENDAR