BEGIN:VCALENDAR
VERSION:2.0
PRODID:-//Il Libraio//NONSGML Event Calendar//IT
BEGIN:VEVENT
UID:6914d0440daf9
DTSTART:20251112T170000Z
SEQUENCE:0
TRANSP:OPAQUE
LOCATION:https://www.google.com/maps/dir/+Feltrinelli+Librerie+Piazza+C.L.N
 .+251++Torino+TO/
SUMMARY:Psicologa Cruda presenta \"Torno Subito (forse)\" a Torino
CLASS:PUBLIC
DESCRIPTION:Scheda dell'evento: https://www.illibraio.it/eventi/psicologa-c
 ruda-presenta-torno-subito-forse-a-torino-34689/
DTSTAMP:20251112T182156Z
END:VEVENT
END:VCALENDAR