BEGIN:VCALENDAR
VERSION:2.0
PRODID:-//Il Libraio//NONSGML Event Calendar//IT
BEGIN:VEVENT
UID:69bc3eaa5ffac
DTSTART:20260324T153000Z
SEQUENCE:0
TRANSP:OPAQUE
LOCATION:https://www.google.com/maps/dir/+Libreria+Mondadori+presso+Galleri
 a+Alberto+Sordi+Via+del+Corso+199++Roma+RM/
SUMMARY:Rita Nardi a Roma
CLASS:PUBLIC
DESCRIPTION:Scheda dell'evento: https://www.illibraio.it/eventi/rita-nardi-
 a-roma-35417/
DTSTAMP:20260319T182130Z
END:VEVENT
END:VCALENDAR