BEGIN:VCALENDAR
VERSION:2.0
PRODID:-//Il Libraio//NONSGML Event Calendar//IT
BEGIN:VEVENT
UID:69e2fe63a2b58
DTSTART:20260421T154500Z
SEQUENCE:0
TRANSP:OPAQUE
LOCATION:https://www.google.com/maps/dir/+Biblioteca+Rotonda+Via+Carlo+Casa
 legno+42++Modena+MO/
SUMMARY:Sara Gambazza a Modena
CLASS:PUBLIC
DESCRIPTION:Scheda dell'evento: https://www.illibraio.it/eventi/sara-gambaz
 za-a-modena-36026/
DTSTAMP:20260418T034539Z
END:VEVENT
END:VCALENDAR