BEGIN:VCALENDAR
VERSION:2.0
PRODID:-//Il Libraio//NONSGML Event Calendar//IT
BEGIN:VEVENT
UID:69b455b37cd1f
DTSTART:20260314T140000Z
SEQUENCE:0
TRANSP:OPAQUE
LOCATION:https://www.google.com/maps/dir/+Comitato+Anziani+Noceto+Via+A.+To
 narelli+2++Noceto+PR/
SUMMARY:Sara Gambazza a Noceto
CLASS:PUBLIC
DESCRIPTION:Scheda dell'evento: https://www.illibraio.it/eventi/sara-gambaz
 za-a-noceto-36007/
DTSTAMP:20260313T182139Z
END:VEVENT
END:VCALENDAR