BEGIN:VCALENDAR
VERSION:2.0
PRODID:-//Il Libraio//NONSGML Event Calendar//IT
BEGIN:VEVENT
UID:6999387ca327c
DTSTART:20260227T201500Z
SEQUENCE:0
TRANSP:OPAQUE
LOCATION:https://www.google.com/maps/dir/+ORTI+-+Casa+di+Quartiere+L.Spalla
 nzani+Via+Arturo+Toscanini+20++Reggio+Emilia+RE/
SUMMARY:Sara Gambazza a Reggio Emilia
CLASS:PUBLIC
DESCRIPTION:Scheda dell'evento: https://www.illibraio.it/eventi/sara-gambaz
 za-a-reggio-emilia-35487/
DTSTAMP:20260221T044548Z
END:VEVENT
END:VCALENDAR