BEGIN:VCALENDAR
VERSION:2.0
PRODID:-//Il Libraio//NONSGML Event Calendar//IT
BEGIN:VEVENT
UID:69a272df44fac
DTSTART:20260307T153000Z
SEQUENCE:0
TRANSP:OPAQUE
LOCATION:https://www.google.com/maps/dir/+Corte+Civica+Tommasini+Viale+Fili
 ppo+Corridoni+1++Salsomaggiore+Terme+PR/
SUMMARY:Sara Gambazza a Salsomaggiore Terme (PR)
CLASS:PUBLIC
DESCRIPTION:Scheda dell'evento: https://www.illibraio.it/eventi/sara-gambaz
 za-a-salsomaggiore-terme-pr-35524/
DTSTAMP:20260228T044519Z
END:VEVENT
END:VCALENDAR