BEGIN:VCALENDAR
VERSION:2.0
PRODID:-//Il Libraio//NONSGML Event Calendar//IT
BEGIN:VEVENT
UID:69a272df39cbb
DTSTART:20260305T193000Z
SEQUENCE:0
TRANSP:OPAQUE
LOCATION:https://www.google.com/maps/dir/+Biblioteca+di+San+Polo+d\\'Enza+p
 iazza+IV+Novembre+1++San+Polo+d\\'Enza+RE/
SUMMARY:Sara Gambazza a San Polo D'Enza (RE)
CLASS:PUBLIC
DESCRIPTION:Scheda dell'evento: https://www.illibraio.it/eventi/sara-gambaz
 za-a-san-polo-denza-re-35343/
DTSTAMP:20260228T044519Z
END:VEVENT
END:VCALENDAR