BEGIN:VCALENDAR
VERSION:2.0
PRODID:-//Il Libraio//NONSGML Event Calendar//IT
BEGIN:VEVENT
UID:69d9318079a69
DTSTART:20260418T143000Z
SEQUENCE:0
TRANSP:OPAQUE
LOCATION:https://www.google.com/maps/dir/+Centro+Civico+Via+Gruppini+4++Sor
 bolo+PR/
SUMMARY:Sara Gambazza a Sorbolo (PR)
CLASS:PUBLIC
DESCRIPTION:Scheda dell'evento: https://www.illibraio.it/eventi/sara-gambaz
 za-a-sorbolo-pr-34803/
DTSTAMP:20260410T172104Z
END:VEVENT
END:VCALENDAR