BEGIN:VCALENDAR
VERSION:2.0
PRODID:-//Il Libraio//NONSGML Event Calendar//IT
BEGIN:VEVENT
UID:6998a626573b0
DTSTART:20260228T150000Z
SEQUENCE:0
TRANSP:OPAQUE
LOCATION:https://www.google.com/maps/dir/+Centro+Civico+\\'La+Corte\\'+Via+
 Fratelli+Cantini+8++Traversetolo+PR/
SUMMARY:Sara Gambazza a Traversetolo (PR)
CLASS:PUBLIC
DESCRIPTION:Scheda dell'evento: https://www.illibraio.it/eventi/sara-gambaz
 za-a-traversetolo-pr-35369/
DTSTAMP:20260220T182126Z
END:VEVENT
END:VCALENDAR