BEGIN:VCALENDAR
VERSION:2.0
PRODID:-//Il Libraio//NONSGML Event Calendar//IT
BEGIN:VEVENT
UID:69be227e17fd0
DTSTART:20260328T153000Z
SEQUENCE:0
TRANSP:OPAQUE
LOCATION:https://www.google.com/maps/dir/+Biblioteca+Comunale+di+Tregnago+P
 iazza+Massalongo+27++Tregnago+VR/
SUMMARY:Sara Gambazza a Tregnago (VR)
CLASS:PUBLIC
DESCRIPTION:Scheda dell'evento: https://www.illibraio.it/eventi/sara-gambaz
 za-a-tregnago-vr-35350/
DTSTAMP:20260321T044550Z
END:VEVENT
END:VCALENDAR