BEGIN:VCALENDAR
VERSION:2.0
PRODID:-//Il Libraio//NONSGML Event Calendar//IT
BEGIN:VEVENT
UID:6967de8529517
DTSTART:20260119T140000Z
SEQUENCE:0
TRANSP:OPAQUE
SUMMARY:Sara Gambazza in diretta su Instagram
CLASS:PUBLIC
DESCRIPTION:Scheda dell'evento: https://www.illibraio.it/eventi/sara-gambaz
 za-in-diretta-su-instagram-35211/
DTSTAMP:20260114T182053Z
END:VEVENT
END:VCALENDAR