BEGIN:VCALENDAR
VERSION:2.0
PRODID:-//Il Libraio//NONSGML Event Calendar//IT
BEGIN:VEVENT
UID:69e903774e067
DTSTART:20260501T143000Z
SEQUENCE:0
TRANSP:OPAQUE
LOCATION:https://www.google.com/maps/dir/+Sala+Lettura+Sentierone+-+Bergamo
 +(BG)+Sentierone++Bergamo+BG/
SUMMARY:Simone Tempia a Bergamo
CLASS:PUBLIC
DESCRIPTION:Scheda dell'evento: https://www.illibraio.it/eventi/simone-temp
 ia-a-bergamo-35692/
DTSTAMP:20260422T172055Z
END:VEVENT
END:VCALENDAR