BEGIN:VCALENDAR
VERSION:2.0
PRODID:-//Il Libraio//NONSGML Event Calendar//IT
BEGIN:VEVENT
UID:69e9037750361
DTSTART:20260429T163000Z
SEQUENCE:0
TRANSP:OPAQUE
LOCATION:https://www.google.com/maps/dir/+Libreria+Vittorio+Giovannacci+Via
 +Italia+14++Biella+BI/
SUMMARY:Simone Tempia a Biella
CLASS:PUBLIC
DESCRIPTION:Scheda dell'evento: https://www.illibraio.it/eventi/simone-temp
 ia-a-biella-35691/
DTSTAMP:20260422T172055Z
END:VEVENT
END:VCALENDAR