BEGIN:VCALENDAR
VERSION:2.0
PRODID:-//Il Libraio//NONSGML Event Calendar//IT
BEGIN:VEVENT
UID:69e9037752539
DTSTART:20260504T180000Z
SEQUENCE:0
TRANSP:OPAQUE
LOCATION:https://www.google.com/maps/dir/+Biblioteca+Comunale+Via+Alessandr
 o+Manzoni+79++Esine+BS/
SUMMARY:Simone Tempia a Esine (BS)
CLASS:PUBLIC
DESCRIPTION:Scheda dell'evento: https://www.illibraio.it/eventi/simone-temp
 ia-a-esine-bs-36190/
DTSTAMP:20260422T172055Z
END:VEVENT
END:VCALENDAR