BEGIN:VCALENDAR
VERSION:2.0
PRODID:-//Il Libraio//NONSGML Event Calendar//IT
BEGIN:VEVENT
UID:69e90377546bd
DTSTART:20260506T163000Z
SEQUENCE:0
TRANSP:OPAQUE
LOCATION:https://www.google.com/maps/dir/+Bohem+La+Stazione+-+Fiori+Via+Rom
 a+15++Paratico+BS/
SUMMARY:Simone Tempia a Paratico (BS)
CLASS:PUBLIC
DESCRIPTION:Scheda dell'evento: https://www.illibraio.it/eventi/simone-temp
 ia-a-paratico-bs-35717/
DTSTAMP:20260422T172055Z
END:VEVENT
END:VCALENDAR