BEGIN:VCALENDAR
VERSION:2.0
PRODID:-//Il Libraio//NONSGML Event Calendar//IT
BEGIN:VEVENT
UID:69d0896cbb1ce
DTSTART:20260407T170000Z
SEQUENCE:0
TRANSP:OPAQUE
LOCATION:https://www.google.com/maps/dir/+Der+Mast+Via+Giosuè+Carducci+17+
 +Brescia+BS/
SUMMARY:Stanza Zen a Brescia
CLASS:PUBLIC
DESCRIPTION:Scheda dell'evento: https://www.illibraio.it/eventi/stanza-zen-
 a-brescia-35952/
DTSTAMP:20260404T034548Z
END:VEVENT
END:VCALENDAR