BEGIN:VCALENDAR
VERSION:2.0
PRODID:-//Il Libraio//NONSGML Event Calendar//IT
BEGIN:VEVENT
UID:69c75cf91b779
DTSTART:20260330T163000Z
SEQUENCE:0
TRANSP:OPAQUE
LOCATION:https://www.google.com/maps/dir/+Feltrinelli+Librerie+Piazza+Piemo
 nte+4++Milano+MI/
SUMMARY:Stanza Zen a Milano
CLASS:PUBLIC
DESCRIPTION:Scheda dell'evento: https://www.illibraio.it/eventi/stanza-zen-
 a-milano-35845/
DTSTAMP:20260328T044545Z
END:VEVENT
END:VCALENDAR