BEGIN:VCALENDAR
VERSION:2.0
PRODID:-//Il Libraio//NONSGML Event Calendar//IT
BEGIN:VEVENT
UID:69c6cabe8a793
DTSTART:20260419T100000Z
SEQUENCE:0
TRANSP:OPAQUE
LOCATION:https://www.google.com/maps/dir/+Comune+di+Frascati+Piazza+Gugliel
 mo+Marconi+3++Frascati+RM/
SUMMARY:Stefania Auci presenta \"L'alba dei Leoni\" a Frascati (RM)
CLASS:PUBLIC
DESCRIPTION:Scheda dell'evento: https://www.illibraio.it/eventi/stefania-au
 ci-presenta-lalba-dei-leoni-a-frascati-rm-36242/
DTSTAMP:20260327T182150Z
END:VEVENT
END:VCALENDAR