BEGIN:VCALENDAR
VERSION:2.0
PRODID:-//Il Libraio//NONSGML Event Calendar//IT
BEGIN:VEVENT
UID:69c6cabe88ac1
DTSTART:20260428T160000Z
SEQUENCE:0
TRANSP:OPAQUE
LOCATION:https://www.google.com/maps/dir/+Palazzo+Toscanelli+Vicolo+del+Tin
 ti+88++Pisa+PI/
SUMMARY:Stefania Auci presenta \"L'alba dei Leoni\" a Pisa
CLASS:PUBLIC
DESCRIPTION:Scheda dell'evento: https://www.illibraio.it/eventi/stefania-au
 ci-presenta-lalba-dei-leoni-a-pisa-35740/
DTSTAMP:20260327T182150Z
END:VEVENT
END:VCALENDAR