BEGIN:VCALENDAR
VERSION:2.0
PRODID:-//Il Libraio//NONSGML Event Calendar//IT
BEGIN:VEVENT
UID:69a87820069f0
DTSTART:20260313T170000Z
SEQUENCE:0
TRANSP:OPAQUE
LOCATION:https://www.google.com/maps/dir/+Feltrinelli+Librerie+Via+Cesare+B
 attisti+17++Modena+MO/
SUMMARY:Valentina Maini presenta il suo libro alla Feltrinelli di Modena
CLASS:PUBLIC
DESCRIPTION:Scheda dell'evento: https://www.illibraio.it/eventi/valentina-m
 aini-presenta-il-suo-libro-alla-feltrinelli-di-modena-35411/
DTSTAMP:20260304T182120Z
END:VEVENT
END:VCALENDAR